BEGIN:VCALENDAR
VERSION:2.0
PRODID:-//Plone.org//NONSGML plone.app.event//EN
X-WR-TIMEZONE:Europe/Berlin
BEGIN:VEVENT
SUMMARY:SONIC CAFE – heute mit Herr Aaron
DTSTART;TZID=Europe/Berlin:20071206T210000
DTSTAMP:20260423T000620Z
UID:398a86147bf94bb2b79ebf70bf896ca0@zmi.spielboden.at
CREATED:20120822T145310Z
LAST-MODIFIED:20120910T114154Z
URL:https://zmi.spielboden.at/Plone/veranstaltungen/2007/12_dezember/2007-
 12-06-21-00-sonic-cafe-2013-heute-mit-herr-aaron
END:VEVENT
BEGIN:VTIMEZONE
TZID:Europe/Berlin
X-LIC-LOCATION:Europe/Berlin
BEGIN:STANDARD
DTSTART:20071028T020000
TZNAME:CET
TZOFFSETFROM:+0200
TZOFFSETTO:+0100
END:STANDARD
END:VTIMEZONE
END:VCALENDAR
