BEGIN:VCALENDAR
VERSION:2.0
PRODID:-//Plone.org//NONSGML plone.app.event//EN
X-WR-TIMEZONE:Europe/Berlin
BEGIN:VEVENT
SUMMARY:aktionstheater ensemble - Liebe
DTSTART;TZID=Europe/Berlin:20071205T203000
DTSTAMP:20260423T000208Z
UID:60165a9870344736bc01645b76267a69@zmi.spielboden.at
CREATED:20120822T145314Z
LAST-MODIFIED:20210809T123719Z
URL:https://zmi.spielboden.at/Plone/veranstaltungen/2007/12_dezember/2007-
 12-05-20-30-aktionstheater-ensemble-liebe
END:VEVENT
BEGIN:VTIMEZONE
TZID:Europe/Berlin
X-LIC-LOCATION:Europe/Berlin
BEGIN:STANDARD
DTSTART:20071028T020000
TZNAME:CET
TZOFFSETFROM:+0200
TZOFFSETTO:+0100
END:STANDARD
END:VTIMEZONE
END:VCALENDAR
