BEGIN:VCALENDAR
VERSION:2.0
PRODID:-//Plone.org//NONSGML plone.app.event//EN
X-WR-TIMEZONE:Europe/Berlin
BEGIN:VEVENT
SUMMARY:X-Mas Kinder – Clown Dido und Didolino - Weihnachten auf hoher S
 ee
DTSTART;TZID=Europe/Berlin:20071227T140000
DTSTAMP:20260422T213109Z
UID:2566bad3369d4ac3b5b01135bef6e321@zmi.spielboden.at
CREATED:20120822T145235Z
LAST-MODIFIED:20210809T123713Z
URL:https://zmi.spielboden.at/Plone/veranstaltungen/2007/11_november/2007-
 12-27-14-00-x-mas-kinder-2013-clown-dido-und-didolino-weihnachten-auf-hohe
 r-see
END:VEVENT
BEGIN:VTIMEZONE
TZID:Europe/Berlin
X-LIC-LOCATION:Europe/Berlin
BEGIN:STANDARD
DTSTART:20071028T020000
TZNAME:CET
TZOFFSETFROM:+0200
TZOFFSETTO:+0100
END:STANDARD
END:VTIMEZONE
END:VCALENDAR
