BEGIN:VCALENDAR
VERSION:2.0
PRODID:-//Plone.org//NONSGML plone.app.event//EN
X-WR-TIMEZONE:Europe/Berlin
BEGIN:VEVENT
SUMMARY:X-Mas Kinder – Spielboden Kasperletheater
DTSTART;TZID=Europe/Berlin:20071224T153000
DTSTAMP:20260422T212936Z
UID:6285164950f64394845af08bb556797d@zmi.spielboden.at
CREATED:20120822T145235Z
LAST-MODIFIED:20210809T123713Z
URL:https://zmi.spielboden.at/Plone/veranstaltungen/2007/11_november/2007-
 12-24-15-30-x-mas-kinder-2013-spielboden-kasperletheater
END:VEVENT
BEGIN:VTIMEZONE
TZID:Europe/Berlin
X-LIC-LOCATION:Europe/Berlin
BEGIN:STANDARD
DTSTART:20071028T020000
TZNAME:CET
TZOFFSETFROM:+0200
TZOFFSETTO:+0100
END:STANDARD
END:VTIMEZONE
END:VCALENDAR
