BEGIN:VCALENDAR
VERSION:2.0
PRODID:-//Plone.org//NONSGML plone.app.event//EN
X-WR-TIMEZONE:Europe/Berlin
BEGIN:VEVENT
SUMMARY:Jeunesse für Kinder – Oh\, du lieber Augustin
DTSTART;TZID=Europe/Berlin:20071215T150000
DTSTAMP:20260422T225226Z
UID:f4993f79693440d68e7bba78c46850d1@zmi.spielboden.at
CREATED:20120822T145234Z
DESCRIPTION:Lustige Lieder und spannende Geschichten aus Wien.
LAST-MODIFIED:20210809T123713Z
URL:https://zmi.spielboden.at/Plone/veranstaltungen/2007/11_november/2007-
 12-15-15-00-jeunesse-fuer-kinder-2013-oh-du-lieber-augustin
END:VEVENT
BEGIN:VTIMEZONE
TZID:Europe/Berlin
X-LIC-LOCATION:Europe/Berlin
BEGIN:STANDARD
DTSTART:20071028T020000
TZNAME:CET
TZOFFSETFROM:+0200
TZOFFSETTO:+0100
END:STANDARD
END:VTIMEZONE
END:VCALENDAR
