BEGIN:VCALENDAR
VERSION:2.0
PRODID:-//Plone.org//NONSGML plone.app.event//EN
X-WR-TIMEZONE:Europe/Berlin
BEGIN:VEVENT
SUMMARY:Gauls Kinderlieder – Der klingende Adventkalender – wie Nagobe
 rt der Hase auf Weihnachten wartete
DTSTART;TZID=Europe/Berlin:20071201T150000
DTSTAMP:20260422T225233Z
UID:cea9e43e7cb34672a055bc43c8d8b494@zmi.spielboden.at
CREATED:20120822T145233Z
LAST-MODIFIED:20210809T123713Z
URL:https://zmi.spielboden.at/Plone/veranstaltungen/2007/11_november/2007-
 12-01-15-00-gauls-kinderlieder-2013-der-klingende-adventkalender-2013-wie-
 nagobert-der-hase-auf-weihnachten-wartete
END:VEVENT
BEGIN:VTIMEZONE
TZID:Europe/Berlin
X-LIC-LOCATION:Europe/Berlin
BEGIN:STANDARD
DTSTART:20071028T020000
TZNAME:CET
TZOFFSETFROM:+0200
TZOFFSETTO:+0100
END:STANDARD
END:VTIMEZONE
END:VCALENDAR
