BEGIN:VCALENDAR
VERSION:2.0
PRODID:-//Plone.org//NONSGML plone.app.event//EN
X-WR-TIMEZONE:Europe/Berlin
BEGIN:VEVENT
SUMMARY:Mensa-DJ-Line
DTSTART;TZID=Europe/Berlin:20071130T220000
DTSTAMP:20260423T000221Z
UID:8d6599fccfe6441797085cb34df040fa@zmi.spielboden.at
CREATED:20120822T145302Z
LAST-MODIFIED:20120910T114154Z
URL:https://zmi.spielboden.at/Plone/veranstaltungen/2007/11_november/2007-
 11-30-22-00-mensa-dj-line
END:VEVENT
BEGIN:VTIMEZONE
TZID:Europe/Berlin
X-LIC-LOCATION:Europe/Berlin
BEGIN:STANDARD
DTSTART:20071028T020000
TZNAME:CET
TZOFFSETFROM:+0200
TZOFFSETTO:+0100
END:STANDARD
END:VTIMEZONE
END:VCALENDAR
