BEGIN:VCALENDAR
VERSION:2.0
PRODID:-//Plone.org//NONSGML plone.app.event//EN
X-WR-TIMEZONE:Europe/Berlin
BEGIN:VEVENT
SUMMARY:after work lounge - get2gether in der kantine
DTSTART;TZID=Europe/Berlin:20071129T170000
DTSTAMP:20260422T212535Z
UID:936cb3c52302478fa8613415b23ff006@zmi.spielboden.at
CREATED:20120822T145242Z
DESCRIPTION:Erst war die Arbeit - jetzt die Kantine
LAST-MODIFIED:20210809T123715Z
URL:https://zmi.spielboden.at/Plone/veranstaltungen/2007/11_november/2007-
 11-29-17-00-after-work-lounge-get2gether-in-der-kantine
END:VEVENT
BEGIN:VTIMEZONE
TZID:Europe/Berlin
X-LIC-LOCATION:Europe/Berlin
BEGIN:STANDARD
DTSTART:20071028T020000
TZNAME:CET
TZOFFSETFROM:+0200
TZOFFSETTO:+0100
END:STANDARD
END:VTIMEZONE
END:VCALENDAR
