BEGIN:VCALENDAR
VERSION:2.0
PRODID:-//Plone.org//NONSGML plone.app.event//EN
X-WR-TIMEZONE:Europe/Berlin
BEGIN:VEVENT
SUMMARY:Jüdische Filmwochen Vorarlberg – Jazz Singer Night (2 Filme)
DTSTART;TZID=Europe/Berlin:20071128T203000
DTSTAMP:20260422T225258Z
UID:0f25be0add5a429c8f8fa464068c78fb@zmi.spielboden.at
CREATED:20120822T145300Z
DESCRIPTION:In Zusammenarbeit mit den Jüdischen Filmwochen Wien\, dem Jü
 disches Museum Hohenems und dem Filmforum Bregenz.
LAST-MODIFIED:20210809T123718Z
URL:https://zmi.spielboden.at/Plone/veranstaltungen/2007/11_november/2007-
 11-28-20-30-juedische-filmwochen-vorarlberg-2013-jazz-singer-night-2-filme
END:VEVENT
BEGIN:VTIMEZONE
TZID:Europe/Berlin
X-LIC-LOCATION:Europe/Berlin
BEGIN:STANDARD
DTSTART:20071028T020000
TZNAME:CET
TZOFFSETFROM:+0200
TZOFFSETTO:+0100
END:STANDARD
END:VTIMEZONE
END:VCALENDAR
