BEGIN:VCALENDAR
VERSION:2.0
PRODID:-//Plone.org//NONSGML plone.app.event//EN
X-WR-TIMEZONE:Europe/Berlin
BEGIN:VEVENT
SUMMARY:The War on Drugs
DTSTART;TZID=Europe/Berlin:20071127T203000
DTSTAMP:20260422T211122Z
UID:42bd0de6079848d1819bc137136f0587@zmi.spielboden.at
CREATED:20120822T145301Z
LAST-MODIFIED:20210809T123718Z
URL:https://zmi.spielboden.at/Plone/veranstaltungen/2007/11_november/2007-
 11-27-20-30-the-war-on-drugs
END:VEVENT
BEGIN:VTIMEZONE
TZID:Europe/Berlin
X-LIC-LOCATION:Europe/Berlin
BEGIN:STANDARD
DTSTART:20071028T020000
TZNAME:CET
TZOFFSETFROM:+0200
TZOFFSETTO:+0100
END:STANDARD
END:VTIMEZONE
END:VCALENDAR
