BEGIN:VCALENDAR
VERSION:2.0
PRODID:-//Plone.org//NONSGML plone.app.event//EN
X-WR-TIMEZONE:Europe/Berlin
BEGIN:VEVENT
SUMMARY:Lesung – Spät(e) Lese
DTSTART;TZID=Europe/Berlin:20071125T203000
DTSTAMP:20260424T152918Z
UID:46666a7f61514bae9d6616d16545f6af@zmi.spielboden.at
CREATED:20120822T145259Z
DESCRIPTION:im Rahmen des Chorprojektes "Wechseljahre"
LAST-MODIFIED:20210809T123718Z
URL:https://zmi.spielboden.at/Plone/veranstaltungen/2007/11_november/2007-
 11-25-20-30-lesung-2013-spaet-e-lese
END:VEVENT
BEGIN:VTIMEZONE
TZID:Europe/Berlin
X-LIC-LOCATION:Europe/Berlin
BEGIN:STANDARD
DTSTART:20071028T020000
TZNAME:CET
TZOFFSETFROM:+0200
TZOFFSETTO:+0100
END:STANDARD
END:VTIMEZONE
END:VCALENDAR
