BEGIN:VCALENDAR
VERSION:2.0
PRODID:-//Plone.org//NONSGML plone.app.event//EN
X-WR-TIMEZONE:Europe/Berlin
BEGIN:VEVENT
SUMMARY:Matthias Deutschmann - Die Reise nach Jerusalem
DTSTART;TZID=Europe/Berlin:20071124T203000
DTSTAMP:20260422T211154Z
UID:b0e4a60e29344d31b9d68b2785f5ffbc@zmi.spielboden.at
CREATED:20120822T145228Z
LAST-MODIFIED:20210809T123712Z
URL:https://zmi.spielboden.at/Plone/veranstaltungen/2007/11_november/2007-
 11-24-20-30-matthias-deutschmann-die-reise-nach-jerusalem
END:VEVENT
BEGIN:VTIMEZONE
TZID:Europe/Berlin
X-LIC-LOCATION:Europe/Berlin
BEGIN:STANDARD
DTSTART:20071028T020000
TZNAME:CET
TZOFFSETFROM:+0200
TZOFFSETTO:+0100
END:STANDARD
END:VTIMEZONE
END:VCALENDAR
