BEGIN:VCALENDAR
VERSION:2.0
PRODID:-//Plone.org//NONSGML plone.app.event//EN
X-WR-TIMEZONE:Europe/Berlin
BEGIN:VEVENT
SUMMARY:Kindertheater Pipifax – Der Regenbogenfisch
DTSTART;TZID=Europe/Berlin:20071124T150000
DTSTAMP:20260422T211908Z
UID:19be2b9f15d24120aee3efaf5feb23eb@zmi.spielboden.at
CREATED:20120822T145232Z
DESCRIPTION:nach dem gleichnamigen Kinderbuch von Markus Pfister
LAST-MODIFIED:20210809T123713Z
URL:https://zmi.spielboden.at/Plone/veranstaltungen/2007/11_november/2007-
 11-24-15-00-kindertheater-pipifax-2013-der-regenbogenfisch
END:VEVENT
BEGIN:VTIMEZONE
TZID:Europe/Berlin
X-LIC-LOCATION:Europe/Berlin
BEGIN:STANDARD
DTSTART:20071028T020000
TZNAME:CET
TZOFFSETFROM:+0200
TZOFFSETTO:+0100
END:STANDARD
END:VTIMEZONE
END:VCALENDAR
