BEGIN:VCALENDAR
VERSION:2.0
PRODID:-//Plone.org//NONSGML plone.app.event//EN
X-WR-TIMEZONE:Europe/Berlin
BEGIN:VEVENT
SUMMARY:SONIC CAFE – heute mit Fräulein Cicibe und Gast DJ Mike
DTSTART;TZID=Europe/Berlin:20071123T230000
DTSTAMP:20260422T212936Z
UID:077ae971375247a79ed197c83e760b34@zmi.spielboden.at
CREATED:20120822T145241Z
LAST-MODIFIED:20120910T114152Z
URL:https://zmi.spielboden.at/Plone/veranstaltungen/2007/11_november/2007-
 11-23-23-00-sonic-cafe-2013-heute-mit-fraeulein-cicibe-und-gast-dj-mike
END:VEVENT
BEGIN:VTIMEZONE
TZID:Europe/Berlin
X-LIC-LOCATION:Europe/Berlin
BEGIN:STANDARD
DTSTART:20071028T020000
TZNAME:CET
TZOFFSETFROM:+0200
TZOFFSETTO:+0100
END:STANDARD
END:VTIMEZONE
END:VCALENDAR
