BEGIN:VCALENDAR
VERSION:2.0
PRODID:-//Plone.org//NONSGML plone.app.event//EN
X-WR-TIMEZONE:Europe/Berlin
BEGIN:VEVENT
SUMMARY:Perkalaba (Hutzul-Ethno-Ska)
DTSTART;TZID=Europe/Berlin:20071123T210000
DTSTAMP:20260424T101632Z
UID:938df7c4b6b041b8b1a71cb310e48800@zmi.spielboden.at
CREATED:20120822T145258Z
DESCRIPTION:anschließend Sonic Cafe mit Fräulein Cicibe
LAST-MODIFIED:20210809T123717Z
URL:https://zmi.spielboden.at/Plone/veranstaltungen/2007/11_november/2007-
 11-23-21-00-perkalaba-hutzul-ethno-ska
END:VEVENT
BEGIN:VTIMEZONE
TZID:Europe/Berlin
X-LIC-LOCATION:Europe/Berlin
BEGIN:STANDARD
DTSTART:20071028T020000
TZNAME:CET
TZOFFSETFROM:+0200
TZOFFSETTO:+0100
END:STANDARD
END:VTIMEZONE
END:VCALENDAR
