BEGIN:VCALENDAR
VERSION:2.0
PRODID:-//Plone.org//NONSGML plone.app.event//EN
X-WR-TIMEZONE:Europe/Berlin
BEGIN:VEVENT
SUMMARY:Jüdische Filmwochen Vorarlberg – Diaspora Filmabend – Ein Kur
 zfilmprogramm
DTSTART;TZID=Europe/Berlin:20071122T203000
DTSTAMP:20260422T225136Z
UID:2b51e250b3ba44bc92d44a1c4d55d070@zmi.spielboden.at
CREATED:20120822T145257Z
DESCRIPTION:In Zusammenarbeit mit den Jüdischen Filmwochen Wien\, dem Jü
 disches Museum Hohenems und dem Filmforum Bregenz.
LAST-MODIFIED:20210809T123717Z
URL:https://zmi.spielboden.at/Plone/veranstaltungen/2007/11_november/2007-
 11-22-20-30-juedische-filmwochen-vorarlberg-2013-diaspora-filmabend-2013-e
 in-kurzfilmprogramm
END:VEVENT
BEGIN:VTIMEZONE
TZID:Europe/Berlin
X-LIC-LOCATION:Europe/Berlin
BEGIN:STANDARD
DTSTART:20071028T020000
TZNAME:CET
TZOFFSETFROM:+0200
TZOFFSETTO:+0100
END:STANDARD
END:VTIMEZONE
END:VCALENDAR
