BEGIN:VCALENDAR
VERSION:2.0
PRODID:-//Plone.org//NONSGML plone.app.event//EN
X-WR-TIMEZONE:Europe/Berlin
BEGIN:VEVENT
SUMMARY:Carla Kihlstedt & 2 Foot Yard
DTSTART;TZID=Europe/Berlin:20071122T203000
DTSTAMP:20260422T212744Z
UID:de563b073cf0416a991ec0c869200868@zmi.spielboden.at
CREATED:20120822T145230Z
DESCRIPTION:ein Jeunesse-Konzert in der Reihe Jazz&
LAST-MODIFIED:20210809T123712Z
URL:https://zmi.spielboden.at/Plone/veranstaltungen/2007/11_november/2007-
 11-22-20-30-carla-kihlstedt-2-foot-yard
END:VEVENT
BEGIN:VTIMEZONE
TZID:Europe/Berlin
X-LIC-LOCATION:Europe/Berlin
BEGIN:STANDARD
DTSTART:20071028T020000
TZNAME:CET
TZOFFSETFROM:+0200
TZOFFSETTO:+0100
END:STANDARD
END:VTIMEZONE
END:VCALENDAR
