BEGIN:VCALENDAR
VERSION:2.0
PRODID:-//Plone.org//NONSGML plone.app.event//EN
X-WR-TIMEZONE:Europe/Berlin
BEGIN:VEVENT
SUMMARY:Jüdische Filmwochen Vorarlberg – The Bubble / Ha-Buah
DTSTART;TZID=Europe/Berlin:20071121T203000
DTSTAMP:20260422T213028Z
UID:2da1435e00934a40953acb062addc5cb@zmi.spielboden.at
CREATED:20120822T145256Z
DESCRIPTION:In Zusammenarbeit mit den Jüdischen Filmwochen Wien\, dem Jü
 disches Museum Hohenems und dem Filmforum Bregenz.
LAST-MODIFIED:20210809T123717Z
URL:https://zmi.spielboden.at/Plone/veranstaltungen/2007/11_november/2007-
 11-21-20-30-juedische-filmwochen-vorarlberg-2013-the-bubble-ha-buah
END:VEVENT
BEGIN:VTIMEZONE
TZID:Europe/Berlin
X-LIC-LOCATION:Europe/Berlin
BEGIN:STANDARD
DTSTART:20071028T020000
TZNAME:CET
TZOFFSETFROM:+0200
TZOFFSETTO:+0100
END:STANDARD
END:VTIMEZONE
END:VCALENDAR
