BEGIN:VCALENDAR
VERSION:2.0
PRODID:-//Plone.org//NONSGML plone.app.event//EN
X-WR-TIMEZONE:Europe/Berlin
BEGIN:VEVENT
SUMMARY:Spielbodenchor – Wechseljahre
DTSTART;TZID=Europe/Berlin:20071117T203000
DTSTAMP:20260422T214154Z
UID:795cb1d5870d45b399f7f3ad862019a4@zmi.spielboden.at
CREATED:20120822T145252Z
DESCRIPTION:Anlässlich des 20-jährigen Jubiläums entwickelte der Chor s
 ein neues Programm „Wechseljahre“.
LAST-MODIFIED:20210809T123716Z
URL:https://zmi.spielboden.at/Plone/veranstaltungen/2007/11_november/2007-
 11-17-20-30-spielbodenchor-2013-wechseljahre
END:VEVENT
BEGIN:VTIMEZONE
TZID:Europe/Berlin
X-LIC-LOCATION:Europe/Berlin
BEGIN:STANDARD
DTSTART:20071028T020000
TZNAME:CET
TZOFFSETFROM:+0200
TZOFFSETTO:+0100
END:STANDARD
END:VTIMEZONE
END:VCALENDAR
