BEGIN:VCALENDAR
VERSION:2.0
PRODID:-//Plone.org//NONSGML plone.app.event//EN
X-WR-TIMEZONE:Europe/Berlin
BEGIN:VEVENT
SUMMARY:Theaterlabor – Felix\, der Kobold im Kinderzimmer
DTSTART;TZID=Europe/Berlin:20071117T150000
DTSTAMP:20260422T212926Z
UID:2e5221eb1f3d43ba884d7dd7b30344a0@zmi.spielboden.at
CREATED:20120822T145232Z
LAST-MODIFIED:20210809T123712Z
URL:https://zmi.spielboden.at/Plone/veranstaltungen/2007/11_november/2007-
 11-17-15-00-theaterlabor-2013-felix-der-kobold-im-kinderzimmer
END:VEVENT
BEGIN:VTIMEZONE
TZID:Europe/Berlin
X-LIC-LOCATION:Europe/Berlin
BEGIN:STANDARD
DTSTART:20071028T020000
TZNAME:CET
TZOFFSETFROM:+0200
TZOFFSETTO:+0100
END:STANDARD
END:VTIMEZONE
END:VCALENDAR
