BEGIN:VCALENDAR
VERSION:2.0
PRODID:-//Plone.org//NONSGML plone.app.event//EN
X-WR-TIMEZONE:Europe/Berlin
BEGIN:VEVENT
SUMMARY:Anne Wylie Band
DTSTART;TZID=Europe/Berlin:20071114T203000
DTSTAMP:20260422T212752Z
UID:070b5befc9aa469c947212e9779e337e@zmi.spielboden.at
CREATED:20120822T145240Z
LAST-MODIFIED:20210809T123715Z
URL:https://zmi.spielboden.at/Plone/veranstaltungen/2007/11_november/2007-
 11-14-20-30-anne-wylie-band
END:VEVENT
BEGIN:VTIMEZONE
TZID:Europe/Berlin
X-LIC-LOCATION:Europe/Berlin
BEGIN:STANDARD
DTSTART:20071028T020000
TZNAME:CET
TZOFFSETFROM:+0200
TZOFFSETTO:+0100
END:STANDARD
END:VTIMEZONE
END:VCALENDAR
