BEGIN:VCALENDAR
VERSION:2.0
PRODID:-//Plone.org//NONSGML plone.app.event//EN
X-WR-TIMEZONE:Europe/Berlin
BEGIN:VEVENT
SUMMARY:PREMIERE – Spielbodenchor – Wechseljahre
DTSTART;TZID=Europe/Berlin:20071110T203000
DTSTAMP:20260422T212744Z
UID:50c9bd1bcf92438ea8bca28f3a4c4609@zmi.spielboden.at
CREATED:20120822T145250Z
DESCRIPTION:weitere Vorstellungen am Freitag\, 16.11. und Samstag\, 17.11.
  um 20.30 Uhr
LAST-MODIFIED:20210809T123716Z
URL:https://zmi.spielboden.at/Plone/veranstaltungen/2007/11_november/2007-
 11-10-20-30-premiere-2013-spielbodenchor-2013-wechseljahre
END:VEVENT
BEGIN:VTIMEZONE
TZID:Europe/Berlin
X-LIC-LOCATION:Europe/Berlin
BEGIN:STANDARD
DTSTART:20071028T020000
TZNAME:CET
TZOFFSETFROM:+0200
TZOFFSETTO:+0100
END:STANDARD
END:VTIMEZONE
END:VCALENDAR
