BEGIN:VCALENDAR
VERSION:2.0
PRODID:-//Plone.org//NONSGML plone.app.event//EN
X-WR-TIMEZONE:Europe/Berlin
BEGIN:VEVENT
SUMMARY:Il Segreto di Pulcinella – Fernando der Stier
DTSTART;TZID=Europe/Berlin:20071110T150000
DTSTAMP:20260422T212957Z
UID:c2e2932f68e3480cb3680461febcc828@zmi.spielboden.at
CREATED:20120822T145231Z
LAST-MODIFIED:20210809T123712Z
URL:https://zmi.spielboden.at/Plone/veranstaltungen/2007/11_november/2007-
 11-10-15-00-il-segreto-di-pulcinella-2013-fernando-der-stier
END:VEVENT
BEGIN:VTIMEZONE
TZID:Europe/Berlin
X-LIC-LOCATION:Europe/Berlin
BEGIN:STANDARD
DTSTART:20071028T020000
TZNAME:CET
TZOFFSETFROM:+0200
TZOFFSETTO:+0100
END:STANDARD
END:VTIMEZONE
END:VCALENDAR
