BEGIN:VCALENDAR
VERSION:2.0
PRODID:-//Plone.org//NONSGML plone.app.event//EN
X-WR-TIMEZONE:Europe/Berlin
BEGIN:VEVENT
SUMMARY:The War on Drugs
DTSTART;TZID=Europe/Berlin:20071109T203000
DTSTAMP:20260422T212659Z
UID:b4d6671ce3b3498b95ea0120b402a4e6@zmi.spielboden.at
CREATED:20120822T145244Z
LAST-MODIFIED:20210809T123715Z
URL:https://zmi.spielboden.at/Plone/veranstaltungen/2007/11_november/2007-
 11-09-20-30-the-war-on-drugs
END:VEVENT
BEGIN:VTIMEZONE
TZID:Europe/Berlin
X-LIC-LOCATION:Europe/Berlin
BEGIN:STANDARD
DTSTART:20071028T020000
TZNAME:CET
TZOFFSETFROM:+0200
TZOFFSETTO:+0100
END:STANDARD
END:VTIMEZONE
END:VCALENDAR
