BEGIN:VCALENDAR
VERSION:2.0
PRODID:-//Plone.org//NONSGML plone.app.event//EN
X-WR-TIMEZONE:Europe/Berlin
BEGIN:VEVENT
SUMMARY:Convertible – Release-Show "Convertible 3" & Sonic Cafe
DTSTART;TZID=Europe/Berlin:20071108T210000
DTSTAMP:20260422T212649Z
UID:f5da3f3529ae4a099073c8fc5e589d35@zmi.spielboden.at
CREATED:20120822T145241Z
DESCRIPTION:Support: Mindcave\n\n
LAST-MODIFIED:20210809T123715Z
URL:https://zmi.spielboden.at/Plone/veranstaltungen/2007/11_november/2007-
 11-08-21-00-convertible-2013-release-show-convertible-3-sonic-cafe
END:VEVENT
BEGIN:VTIMEZONE
TZID:Europe/Berlin
X-LIC-LOCATION:Europe/Berlin
BEGIN:STANDARD
DTSTART:20071028T020000
TZNAME:CET
TZOFFSETFROM:+0200
TZOFFSETTO:+0100
END:STANDARD
END:VTIMEZONE
END:VCALENDAR
