BEGIN:VCALENDAR
VERSION:2.0
PRODID:-//Plone.org//NONSGML plone.app.event//EN
X-WR-TIMEZONE:Europe/Berlin
BEGIN:VEVENT
SUMMARY:Filmreihe 30 Jahre Deutscher Herbst -  Deutschland im Herbst
DTSTART;TZID=Europe/Berlin:20071106T203000
DTSTAMP:20260422T213121Z
UID:629448da15844d4a91c41f2b2e248eb0@zmi.spielboden.at
CREATED:20120822T145248Z
DESCRIPTION:Filmreihe 30 Jahre Deutscher Herbst -  RAF Terrorismus im Film
LAST-MODIFIED:20210809T123716Z
URL:https://zmi.spielboden.at/Plone/veranstaltungen/2007/11_november/2007-
 11-06-20-30-filmreihe-30-jahre-deutscher-herbst-deutschland-im-herbst
END:VEVENT
BEGIN:VTIMEZONE
TZID:Europe/Berlin
X-LIC-LOCATION:Europe/Berlin
BEGIN:STANDARD
DTSTART:20071028T020000
TZNAME:CET
TZOFFSETFROM:+0200
TZOFFSETTO:+0100
END:STANDARD
END:VTIMEZONE
END:VCALENDAR
