BEGIN:VCALENDAR
VERSION:2.0
PRODID:-//Plone.org//NONSGML plone.app.event//EN
X-WR-TIMEZONE:Europe/Berlin
BEGIN:VEVENT
SUMMARY:Poetry Slam - Kampf der Dichter
DTSTART;TZID=Europe/Berlin:20071102T200000
DTSTAMP:20260422T212649Z
UID:45eadb6efe0043a0a4f505a7314bb3f3@zmi.spielboden.at
CREATED:20120822T145238Z
LAST-MODIFIED:20210809T123715Z
URL:https://zmi.spielboden.at/Plone/veranstaltungen/2007/11_november/2007-
 11-02-20-00-poetry-slam-kampf-der-dichter
END:VEVENT
BEGIN:VTIMEZONE
TZID:Europe/Berlin
X-LIC-LOCATION:Europe/Berlin
BEGIN:STANDARD
DTSTART:20071028T020000
TZNAME:CET
TZOFFSETFROM:+0200
TZOFFSETTO:+0100
END:STANDARD
END:VTIMEZONE
END:VCALENDAR
