BEGIN:VCALENDAR
VERSION:2.0
PRODID:-//Plone.org//NONSGML plone.app.event//EN
X-WR-TIMEZONE:Europe/Berlin
BEGIN:VEVENT
SUMMARY:Maria João »Brazilian Project«
DTSTART;TZID=Europe/Berlin:20071101T203000
DTSTAMP:20260422T195811Z
UID:720c91a94fd3461590cf64d7f5bdc56b@zmi.spielboden.at
CREATED:20120822T145229Z
LAST-MODIFIED:20210809T123712Z
URL:https://zmi.spielboden.at/Plone/veranstaltungen/2007/11_november/2007-
 11-01-20-30-maria-joao-bbbrazilian-projectab
END:VEVENT
BEGIN:VTIMEZONE
TZID:Europe/Berlin
X-LIC-LOCATION:Europe/Berlin
BEGIN:STANDARD
DTSTART:20071028T020000
TZNAME:CET
TZOFFSETFROM:+0200
TZOFFSETTO:+0100
END:STANDARD
END:VTIMEZONE
END:VCALENDAR
