BEGIN:VCALENDAR
VERSION:2.0
PRODID:-//Plone.org//NONSGML plone.app.event//EN
X-WR-TIMEZONE:Europe/Berlin
BEGIN:VEVENT
SUMMARY:SONIC CAFE – heute mit Herr Aaron
DTSTART;TZID=Europe/Berlin:20071031T223000
DTSTAMP:20260422T212557Z
UID:73b1cc8102ad4735bfeaaaead3c7ceb9@zmi.spielboden.at
CREATED:20120822T145228Z
LAST-MODIFIED:20120910T114151Z
URL:https://zmi.spielboden.at/Plone/veranstaltungen/2007/10_oktober/2007-1
 0-31-22-30-sonic-cafe-2013-heute-mit-herr-aaron
END:VEVENT
BEGIN:VTIMEZONE
TZID:Europe/Berlin
X-LIC-LOCATION:Europe/Berlin
BEGIN:STANDARD
DTSTART:20071028T020000
TZNAME:CET
TZOFFSETFROM:+0200
TZOFFSETTO:+0100
END:STANDARD
END:VTIMEZONE
END:VCALENDAR
