BEGIN:VCALENDAR
VERSION:2.0
PRODID:-//Plone.org//NONSGML plone.app.event//EN
X-WR-TIMEZONE:Europe/Berlin
BEGIN:VEVENT
SUMMARY:Beautiful Kantine Band
DTSTART;TZID=Europe/Berlin:20071031T203000
DTSTAMP:20260422T195714Z
UID:9ed35b5b19ab4051af893c8c36111182@zmi.spielboden.at
CREATED:20120822T145227Z
DESCRIPTION:anschließend Sonic Cafe mit Fräulein Cicibe und Herr Aaron
LAST-MODIFIED:20210809T123711Z
URL:https://zmi.spielboden.at/Plone/veranstaltungen/2007/10_oktober/2007-1
 0-31-20-30-beautiful-kantine-band
END:VEVENT
BEGIN:VTIMEZONE
TZID:Europe/Berlin
X-LIC-LOCATION:Europe/Berlin
BEGIN:STANDARD
DTSTART:20071028T020000
TZNAME:CET
TZOFFSETFROM:+0200
TZOFFSETTO:+0100
END:STANDARD
END:VTIMEZONE
END:VCALENDAR
