BEGIN:VCALENDAR
VERSION:2.0
PRODID:-//Plone.org//NONSGML plone.app.event//EN
X-WR-TIMEZONE:Europe/Berlin
BEGIN:VEVENT
SUMMARY:Balkan Beat Box
DTSTART;TZID=Europe/Berlin:20071030T210000
DTSTAMP:20260422T195647Z
UID:fa61de6a82b4438f860366f2cdfc17b4@zmi.spielboden.at
CREATED:20120822T145226Z
LAST-MODIFIED:20210809T123711Z
URL:https://zmi.spielboden.at/Plone/veranstaltungen/2007/10_oktober/2007-1
 0-30-21-00-balkan-beat-box
END:VEVENT
BEGIN:VTIMEZONE
TZID:Europe/Berlin
X-LIC-LOCATION:Europe/Berlin
BEGIN:STANDARD
DTSTART:20071028T020000
TZNAME:CET
TZOFFSETFROM:+0200
TZOFFSETTO:+0100
END:STANDARD
END:VTIMEZONE
END:VCALENDAR
