BEGIN:VCALENDAR
VERSION:2.0
PRODID:-//Plone.org//NONSGML plone.app.event//EN
X-WR-TIMEZONE:Europe/Berlin
BEGIN:VEVENT
SUMMARY:Attwenger Adventure
DTSTART;TZID=Europe/Berlin:20071030T203000
DTSTAMP:20260422T195751Z
UID:ab6cac81c5f94036846e1a2e3de9a4be@zmi.spielboden.at
CREATED:20120822T145217Z
LAST-MODIFIED:20210809T123709Z
URL:https://zmi.spielboden.at/Plone/veranstaltungen/2007/10_oktober/2007-1
 0-30-20-30-attwenger-adventure
END:VEVENT
BEGIN:VTIMEZONE
TZID:Europe/Berlin
X-LIC-LOCATION:Europe/Berlin
BEGIN:STANDARD
DTSTART:20071028T020000
TZNAME:CET
TZOFFSETFROM:+0200
TZOFFSETTO:+0100
END:STANDARD
END:VTIMEZONE
END:VCALENDAR
