BEGIN:VCALENDAR
VERSION:2.0
PRODID:-//Plone.org//NONSGML plone.app.event//EN
X-WR-TIMEZONE:Europe/Berlin
BEGIN:VEVENT
SUMMARY:tanz ist Festival – Flamenco - Workshop 1 für fortgeschrittene 
 Anfänger
DTSTART;TZID=Europe/Berlin:20071028T110000
DTSTAMP:20260422T200405Z
UID:33423967b26b4a6fb6f904ecb8a0cf7c@zmi.spielboden.at
CREATED:20120822T145211Z
LAST-MODIFIED:20210809T123707Z
URL:https://zmi.spielboden.at/Plone/veranstaltungen/2007/10_oktober/2007-1
 0-28-11-00-tanz-ist-festival-2013-flamenco-workshop-1-fuer-fortgeschritten
 e-anfaenger
END:VEVENT
BEGIN:VTIMEZONE
TZID:Europe/Berlin
X-LIC-LOCATION:Europe/Berlin
BEGIN:STANDARD
DTSTART:20071028T020000
TZNAME:CET
TZOFFSETFROM:+0200
TZOFFSETTO:+0100
END:STANDARD
END:VTIMEZONE
END:VCALENDAR
