BEGIN:VCALENDAR
VERSION:2.0
PRODID:-//Plone.org//NONSGML plone.app.event//EN
X-WR-TIMEZONE:Europe/Berlin
BEGIN:VEVENT
SUMMARY:tanz ist Festival – Flamenco - Juan Carlos Lèrida-Derivat
DTSTART;TZID=Europe/Berlin:20071027T203000
DTSTAMP:20260422T200343Z
UID:ea29df605b364e68a12b2408aa84a156@zmi.spielboden.at
CREATED:20120822T145206Z
LAST-MODIFIED:20210809T123706Z
URL:https://zmi.spielboden.at/Plone/veranstaltungen/2007/10_oktober/2007-1
 0-27-20-30-tanz-ist-festival-2013-flamenco-juan-carlos-lerida-derivat
END:VEVENT
BEGIN:VTIMEZONE
TZID:Europe/Berlin
X-LIC-LOCATION:Europe/Berlin
BEGIN:DAYLIGHT
DTSTART:20070325T030000
TZNAME:CEST
TZOFFSETFROM:+0100
TZOFFSETTO:+0200
END:DAYLIGHT
END:VTIMEZONE
END:VCALENDAR
