BEGIN:VCALENDAR
VERSION:2.0
PRODID:-//Plone.org//NONSGML plone.app.event//EN
X-WR-TIMEZONE:Europe/Berlin
BEGIN:VEVENT
SUMMARY:tanz ist Festival – Flamenco - Belén Cabanes und Andreas Maria 
 Germek
DTSTART;TZID=Europe/Berlin:20071025T203000
DTSTAMP:20260422T205359Z
UID:3f3a37d0a4a041c29e367d716945ef83@zmi.spielboden.at
CREATED:20120822T145205Z
LAST-MODIFIED:20210809T123706Z
URL:https://zmi.spielboden.at/Plone/veranstaltungen/2007/10_oktober/2007-1
 0-25-20-30-tanz-ist-festival-2013-flamenco-belen-cabanes-und-andreas-maria
 -germek
END:VEVENT
BEGIN:VTIMEZONE
TZID:Europe/Berlin
X-LIC-LOCATION:Europe/Berlin
BEGIN:DAYLIGHT
DTSTART:20070325T030000
TZNAME:CEST
TZOFFSETFROM:+0100
TZOFFSETTO:+0200
END:DAYLIGHT
END:VTIMEZONE
END:VCALENDAR
