BEGIN:VCALENDAR
VERSION:2.0
PRODID:-//Plone.org//NONSGML plone.app.event//EN
X-WR-TIMEZONE:Europe/Berlin
BEGIN:VEVENT
SUMMARY:tanz ist Festival – Flamenco - Workshop 2 für Fortgeschrittene
DTSTART;TZID=Europe/Berlin:20071024T203000
DTSTAMP:20260422T200344Z
UID:e6b79433725c4c10a11319c40a6f4a1a@zmi.spielboden.at
CREATED:20120822T145209Z
LAST-MODIFIED:20210809T123706Z
URL:https://zmi.spielboden.at/Plone/veranstaltungen/2007/10_oktober/2007-1
 0-24-20-30-tanz-ist-festival-2013-flamenco-workshop-2-fuer-fortgeschritten
 e
END:VEVENT
BEGIN:VTIMEZONE
TZID:Europe/Berlin
X-LIC-LOCATION:Europe/Berlin
BEGIN:DAYLIGHT
DTSTART:20070325T030000
TZNAME:CEST
TZOFFSETFROM:+0100
TZOFFSETTO:+0200
END:DAYLIGHT
END:VTIMEZONE
END:VCALENDAR
