BEGIN:VCALENDAR
VERSION:2.0
PRODID:-//Plone.org//NONSGML plone.app.event//EN
X-WR-TIMEZONE:Europe/Berlin
BEGIN:VEVENT
SUMMARY:tanz ist Festival – Flamenco - Workshop 1 für fortgeschrittene 
 Anfänger
DTSTART;TZID=Europe/Berlin:20071024T183000
DTSTAMP:20260422T200406Z
UID:68ba40c27e214ab7843413261396e680@zmi.spielboden.at
CREATED:20120822T145208Z
LAST-MODIFIED:20210809T123706Z
URL:https://zmi.spielboden.at/Plone/veranstaltungen/2007/10_oktober/2007-1
 0-24-18-30-tanz-ist-festival-2013-flamenco-workshop-1-fuer-fortgeschritten
 e-anfaenger
END:VEVENT
BEGIN:VTIMEZONE
TZID:Europe/Berlin
X-LIC-LOCATION:Europe/Berlin
BEGIN:DAYLIGHT
DTSTART:20070325T030000
TZNAME:CEST
TZOFFSETFROM:+0100
TZOFFSETTO:+0200
END:DAYLIGHT
END:VTIMEZONE
END:VCALENDAR
