BEGIN:VCALENDAR
VERSION:2.0
PRODID:-//Plone.org//NONSGML plone.app.event//EN
X-WR-TIMEZONE:Europe/Berlin
BEGIN:VEVENT
SUMMARY:tanz ist Festival – Flamenco – Andreas Maria Germek
DTSTART;TZID=Europe/Berlin:20071023T203000
DTSTAMP:20260422T205451Z
UID:e914973e2db74751aa1acdb80edb6140@zmi.spielboden.at
CREATED:20120822T145204Z
LAST-MODIFIED:20210809T123706Z
URL:https://zmi.spielboden.at/Plone/veranstaltungen/2007/10_oktober/2007-1
 0-23-20-30-tanz-ist-festival-2013-flamenco-2013-andreas-maria-germek
END:VEVENT
BEGIN:VTIMEZONE
TZID:Europe/Berlin
X-LIC-LOCATION:Europe/Berlin
BEGIN:DAYLIGHT
DTSTART:20070325T030000
TZNAME:CEST
TZOFFSETFROM:+0100
TZOFFSETTO:+0200
END:DAYLIGHT
END:VTIMEZONE
END:VCALENDAR
