BEGIN:VCALENDAR
VERSION:2.0
PRODID:-//Plone.org//NONSGML plone.app.event//EN
X-WR-TIMEZONE:Europe/Berlin
BEGIN:VEVENT
SUMMARY:tanz ist Festival – Flamenco – Poligono Sur
DTSTART;TZID=Europe/Berlin:20071020T203000
DTSTAMP:20260422T200220Z
UID:648b4dcc739547a19938119619419759@zmi.spielboden.at
CREATED:20120822T145207Z
LAST-MODIFIED:20210809T123706Z
URL:https://zmi.spielboden.at/Plone/veranstaltungen/2007/10_oktober/2007-1
 0-20-20-30-tanz-ist-festival-2013-flamenco-2013-poligono-sur
END:VEVENT
BEGIN:VTIMEZONE
TZID:Europe/Berlin
X-LIC-LOCATION:Europe/Berlin
BEGIN:DAYLIGHT
DTSTART:20070325T030000
TZNAME:CEST
TZOFFSETFROM:+0100
TZOFFSETTO:+0200
END:DAYLIGHT
END:VTIMEZONE
END:VCALENDAR
