BEGIN:VCALENDAR
VERSION:2.0
PRODID:-//Plone.org//NONSGML plone.app.event//EN
X-WR-TIMEZONE:Europe/Berlin
BEGIN:VEVENT
SUMMARY:Groovelines - Jazz Bigband Graz »Special Edition« & Gert Jonke
DTSTART;TZID=Europe/Berlin:20071020T203000
DTSTAMP:20260424T141214Z
UID:1886c2b598eb41b183f2c85b39931f07@zmi.spielboden.at
CREATED:20120822T145202Z
DESCRIPTION:ein Jeunesse-Konzert in der Reihe Jazz&
LAST-MODIFIED:20210809T123705Z
URL:https://zmi.spielboden.at/Plone/veranstaltungen/2007/10_oktober/2007-1
 0-20-20-30-groovelines-jazz-bigband-graz-bbspecial-editionab-gert-jonke
END:VEVENT
BEGIN:VTIMEZONE
TZID:Europe/Berlin
X-LIC-LOCATION:Europe/Berlin
BEGIN:DAYLIGHT
DTSTART:20070325T030000
TZNAME:CEST
TZOFFSETFROM:+0100
TZOFFSETTO:+0200
END:DAYLIGHT
END:VTIMEZONE
END:VCALENDAR
