BEGIN:VCALENDAR
VERSION:2.0
PRODID:-//Plone.org//NONSGML plone.app.event//EN
X-WR-TIMEZONE:Europe/Berlin
BEGIN:VEVENT
SUMMARY:Kindertheater Trittbrettl – Florians wundersame Reise über die 
 Tapete
DTSTART;TZID=Europe/Berlin:20071020T150000
DTSTAMP:20260424T125332Z
UID:f877d7bdcfeb42238c9e573401c978d7@zmi.spielboden.at
CREATED:20120822T145204Z
DESCRIPTION:nach dem gleichnamigen Bilderbuch von F.K. Ginzkey
LAST-MODIFIED:20210809T123706Z
URL:https://zmi.spielboden.at/Plone/veranstaltungen/2007/10_oktober/2007-1
 0-20-15-00-kindertheater-trittbrettl-2013-florians-wundersame-reise-ueber-
 die-tapete
END:VEVENT
BEGIN:VTIMEZONE
TZID:Europe/Berlin
X-LIC-LOCATION:Europe/Berlin
BEGIN:DAYLIGHT
DTSTART:20070325T030000
TZNAME:CEST
TZOFFSETFROM:+0100
TZOFFSETTO:+0200
END:DAYLIGHT
END:VTIMEZONE
END:VCALENDAR
