BEGIN:VCALENDAR
VERSION:2.0
PRODID:-//Plone.org//NONSGML plone.app.event//EN
X-WR-TIMEZONE:Europe/Berlin
BEGIN:VEVENT
SUMMARY:C.S.EI MEIDLING - Special Agent Dreams
DTSTART;TZID=Europe/Berlin:20071019T203000
DTSTAMP:20260422T195812Z
UID:ff30c349900044f9a317afa7984069ef@zmi.spielboden.at
CREATED:20120822T145216Z
LAST-MODIFIED:20210809T123709Z
URL:https://zmi.spielboden.at/Plone/veranstaltungen/2007/10_oktober/2007-1
 0-19-20-30-c-s-ei-meidling-special-agent-dreams
END:VEVENT
BEGIN:VTIMEZONE
TZID:Europe/Berlin
X-LIC-LOCATION:Europe/Berlin
BEGIN:DAYLIGHT
DTSTART:20070325T030000
TZNAME:CEST
TZOFFSETFROM:+0100
TZOFFSETTO:+0200
END:DAYLIGHT
END:VTIMEZONE
END:VCALENDAR
