BEGIN:VCALENDAR
VERSION:2.0
PRODID:-//Plone.org//NONSGML plone.app.event//EN
X-WR-TIMEZONE:Europe/Berlin
BEGIN:VEVENT
SUMMARY:Kantine – Indie Pop & Rock Night
DTSTART;TZID=Europe/Berlin:20071018T210000
DTSTAMP:20260422T195749Z
UID:efd718b208254c31af2ba65fb5171fc3@zmi.spielboden.at
CREATED:20120822T145225Z
DESCRIPTION:Alternative Rock Sounds
LAST-MODIFIED:20210809T123711Z
URL:https://zmi.spielboden.at/Plone/veranstaltungen/2007/10_oktober/2007-1
 0-18-21-00-kantine-2013-indie-pop-rock-night
END:VEVENT
BEGIN:VTIMEZONE
TZID:Europe/Berlin
X-LIC-LOCATION:Europe/Berlin
BEGIN:DAYLIGHT
DTSTART:20070325T030000
TZNAME:CEST
TZOFFSETFROM:+0100
TZOFFSETTO:+0200
END:DAYLIGHT
END:VTIMEZONE
END:VCALENDAR
