BEGIN:VCALENDAR
VERSION:2.0
PRODID:-//Plone.org//NONSGML plone.app.event//EN
X-WR-TIMEZONE:Europe/Berlin
BEGIN:VEVENT
SUMMARY:Velojet
DTSTART;TZID=Europe/Berlin:20071018T203000
DTSTAMP:20260422T195630Z
UID:e55875a0c8be4b99bf6cc4040a2dfc02@zmi.spielboden.at
CREATED:20120822T145225Z
DESCRIPTION:Support: The Artistry
LAST-MODIFIED:20210809T123711Z
URL:https://zmi.spielboden.at/Plone/veranstaltungen/2007/10_oktober/2007-1
 0-18-20-30-velojet
END:VEVENT
BEGIN:VTIMEZONE
TZID:Europe/Berlin
X-LIC-LOCATION:Europe/Berlin
BEGIN:DAYLIGHT
DTSTART:20070325T030000
TZNAME:CEST
TZOFFSETFROM:+0100
TZOFFSETTO:+0200
END:DAYLIGHT
END:VTIMEZONE
END:VCALENDAR
