BEGIN:VCALENDAR
VERSION:2.0
PRODID:-//Plone.org//NONSGML plone.app.event//EN
X-WR-TIMEZONE:Europe/Berlin
BEGIN:VEVENT
SUMMARY:Filmreihe 30 Jahre Deutscher Herbst  – Keine Insel - Die Palmers
  Entführung 1977
DTSTART;TZID=Europe/Berlin:20071016T203000
DTSTAMP:20260422T200246Z
UID:a819bcbc03a4440f8576525e60735a49@zmi.spielboden.at
CREATED:20120822T145221Z
DESCRIPTION:Filmreihe 30 Jahre Deutscher Herbst  – RAF Terrorismus im Fi
 lm
LAST-MODIFIED:20210809T123710Z
URL:https://zmi.spielboden.at/Plone/veranstaltungen/2007/10_oktober/2007-1
 0-16-20-30-filmreihe-30-jahre-deutscher-herbst-2013-keine-insel-die-palmer
 s-entfuehrung-1977
END:VEVENT
BEGIN:VTIMEZONE
TZID:Europe/Berlin
X-LIC-LOCATION:Europe/Berlin
BEGIN:DAYLIGHT
DTSTART:20070325T030000
TZNAME:CEST
TZOFFSETFROM:+0100
TZOFFSETTO:+0200
END:DAYLIGHT
END:VTIMEZONE
END:VCALENDAR
