BEGIN:VCALENDAR
VERSION:2.0
PRODID:-//Plone.org//NONSGML plone.app.event//EN
X-WR-TIMEZONE:Europe/Berlin
BEGIN:VEVENT
SUMMARY:The Brendan Adams Trio
DTSTART;TZID=Europe/Berlin:20071012T210000
DTSTAMP:20260422T195939Z
UID:876387b4f20941e49aa5719c07fb80a4@zmi.spielboden.at
CREATED:20120822T145214Z
LAST-MODIFIED:20210809T123708Z
URL:https://zmi.spielboden.at/Plone/veranstaltungen/2007/10_oktober/2007-1
 0-12-21-00-the-brendan-adams-trio
END:VEVENT
BEGIN:VTIMEZONE
TZID:Europe/Berlin
X-LIC-LOCATION:Europe/Berlin
BEGIN:DAYLIGHT
DTSTART:20070325T030000
TZNAME:CEST
TZOFFSETFROM:+0100
TZOFFSETTO:+0200
END:DAYLIGHT
END:VTIMEZONE
END:VCALENDAR
