BEGIN:VCALENDAR
VERSION:2.0
PRODID:-//Plone.org//NONSGML plone.app.event//EN
X-WR-TIMEZONE:Europe/Berlin
BEGIN:VEVENT
SUMMARY:Sonic Cafe &  Carsick Cars
DTSTART;TZID=Europe/Berlin:20071011T210000
DTSTAMP:20260422T200052Z
UID:d01725b75c224487a4daee5f3ee030c4@zmi.spielboden.at
CREATED:20120822T145213Z
DESCRIPTION:im Rahmen von Sonic Cafe – heute mit Fräulein Cicibe
LAST-MODIFIED:20210809T123707Z
URL:https://zmi.spielboden.at/Plone/veranstaltungen/2007/10_oktober/2007-1
 0-11-21-00-sonic-cafe-carsick-cars
END:VEVENT
BEGIN:VTIMEZONE
TZID:Europe/Berlin
X-LIC-LOCATION:Europe/Berlin
BEGIN:DAYLIGHT
DTSTART:20070325T030000
TZNAME:CEST
TZOFFSETFROM:+0100
TZOFFSETTO:+0200
END:DAYLIGHT
END:VTIMEZONE
END:VCALENDAR
