BEGIN:VCALENDAR
VERSION:2.0
PRODID:-//Plone.org//NONSGML plone.app.event//EN
X-WR-TIMEZONE:Europe/Berlin
BEGIN:VEVENT
SUMMARY:Filmreihe 30 Jahre Deutscher Herbst -  Black Box BRD
DTSTART;TZID=Europe/Berlin:20071010T203000
DTSTAMP:20260422T200052Z
UID:a45eaeaffe59402cae6e75c6dc306221@zmi.spielboden.at
CREATED:20120822T145220Z
DESCRIPTION:Filmreihe 30 Jahre Deutscher Herbst -  RAF Terrorismus im Film
LAST-MODIFIED:20210809T123710Z
URL:https://zmi.spielboden.at/Plone/veranstaltungen/2007/10_oktober/2007-1
 0-10-20-30-filmreihe-30-jahre-deutscher-herbst-black-box-brd
END:VEVENT
BEGIN:VTIMEZONE
TZID:Europe/Berlin
X-LIC-LOCATION:Europe/Berlin
BEGIN:DAYLIGHT
DTSTART:20070325T030000
TZNAME:CEST
TZOFFSETFROM:+0100
TZOFFSETTO:+0200
END:DAYLIGHT
END:VTIMEZONE
END:VCALENDAR
