BEGIN:VCALENDAR
VERSION:2.0
PRODID:-//Plone.org//NONSGML plone.app.event//EN
X-WR-TIMEZONE:Europe/Berlin
BEGIN:VEVENT
SUMMARY:Spielboden Kasperletheater
DTSTART;TZID=Europe/Berlin:20071006T150000
DTSTAMP:20260422T192401Z
UID:cdbc8e4554f74765911006ecc492c0d8@zmi.spielboden.at
CREATED:20120822T145203Z
LAST-MODIFIED:20210809T123705Z
URL:https://zmi.spielboden.at/Plone/veranstaltungen/2007/10_oktober/2007-1
 0-06-15-00-spielboden-kasperletheater
END:VEVENT
BEGIN:VTIMEZONE
TZID:Europe/Berlin
X-LIC-LOCATION:Europe/Berlin
BEGIN:DAYLIGHT
DTSTART:20070325T030000
TZNAME:CEST
TZOFFSETFROM:+0100
TZOFFSETTO:+0200
END:DAYLIGHT
END:VTIMEZONE
END:VCALENDAR
