BEGIN:VCALENDAR
VERSION:2.0
PRODID:-//Plone.org//NONSGML plone.app.event//EN
X-WR-TIMEZONE:Europe/Berlin
BEGIN:VEVENT
SUMMARY:Jan Weiler
DTSTART;TZID=Europe/Berlin:20071005T203000
DTSTAMP:20260424T134315Z
UID:8ba048706d7348f1ba6abe9e30b1eafe@zmi.spielboden.at
CREATED:20120822T145157Z
LAST-MODIFIED:20210809T123705Z
URL:https://zmi.spielboden.at/Plone/veranstaltungen/2007/10_oktober/2007-1
 0-05-20-30-jan-weiler
END:VEVENT
BEGIN:VTIMEZONE
TZID:Europe/Berlin
X-LIC-LOCATION:Europe/Berlin
BEGIN:DAYLIGHT
DTSTART:20070325T030000
TZNAME:CEST
TZOFFSETFROM:+0100
TZOFFSETTO:+0200
END:DAYLIGHT
END:VTIMEZONE
END:VCALENDAR
